BEGIN:VCALENDAR
VERSION:2.0
PRODID:-//LMNO · Laboratoire de mathématiques Nicolas Oresme - ECPv6.15.18//NONSGML v1.0//EN
CALSCALE:GREGORIAN
METHOD:PUBLISH
X-WR-CALNAME:LMNO · Laboratoire de mathématiques Nicolas Oresme
X-ORIGINAL-URL:https://lmno.unicaen.fr
X-WR-CALDESC:Évènements pour LMNO · Laboratoire de mathématiques Nicolas Oresme
REFRESH-INTERVAL;VALUE=DURATION:PT1H
X-Robots-Tag:noindex
X-PUBLISHED-TTL:PT1H
BEGIN:VTIMEZONE
TZID:Europe/Paris
BEGIN:DAYLIGHT
TZOFFSETFROM:+0100
TZOFFSETTO:+0200
TZNAME:CEST
DTSTART:20250330T010000
END:DAYLIGHT
BEGIN:STANDARD
TZOFFSETFROM:+0200
TZOFFSETTO:+0100
TZNAME:CET
DTSTART:20251026T010000
END:STANDARD
BEGIN:DAYLIGHT
TZOFFSETFROM:+0100
TZOFFSETTO:+0200
TZNAME:CEST
DTSTART:20260329T010000
END:DAYLIGHT
BEGIN:STANDARD
TZOFFSETFROM:+0200
TZOFFSETTO:+0100
TZNAME:CET
DTSTART:20261025T010000
END:STANDARD
BEGIN:DAYLIGHT
TZOFFSETFROM:+0100
TZOFFSETTO:+0200
TZNAME:CEST
DTSTART:20270328T010000
END:DAYLIGHT
BEGIN:STANDARD
TZOFFSETFROM:+0200
TZOFFSETTO:+0100
TZNAME:CET
DTSTART:20271031T010000
END:STANDARD
END:VTIMEZONE
BEGIN:VEVENT
DTSTART;TZID=Europe/Paris:20260106T140000
DTEND;TZID=Europe/Paris:20260106T150000
DTSTAMP:20260425T210009
CREATED:20260105T113407Z
LAST-MODIFIED:20260105T113408Z
UID:89154-1767708000-1767711600@lmno.unicaen.fr
SUMMARY:Séminaire GRAAL AG : Geoffroy Horel
DESCRIPTION:
URL:https://lmno.unicaen.fr/evenement/seminaire-graal-ag-geoffroy-horel/
END:VEVENT
BEGIN:VEVENT
DTSTART;TZID=Europe/Paris:20260109T140000
DTEND;TZID=Europe/Paris:20260109T150000
DTSTAMP:20260425T210009
CREATED:20260107T112411Z
LAST-MODIFIED:20260107T112412Z
UID:89175-1767967200-1767970800@lmno.unicaen.fr
SUMMARY:Séminaire TNGA : Wansu Kim
DESCRIPTION:Orateur : Wansu Kim (KAIST) \n\n\n\nTitre : On equivariant refinement of the Birch and Swinnerton-Dyer conjecture over global function fields \n\n\n\nRésumé : In this talk\, I will review the equivariant refinement of the Birch and Swinnerton-Dyer conjecture over global function fields\, which was formulated in the joint work with David Burns and Mahesh Kakde. I will especially focus on Galois-descent aspect of the log crystalline cohomology with coefficients in log Dieudonné crystals. If time permits\, I will discusssome later developments and special cases\, based on the joint work with Ki-Seng Tan\, Fabien Trihan and Kwok-Wing Tsoi.
URL:https://lmno.unicaen.fr/evenement/seminaire-tnga-wansu-kim/
CATEGORIES:Séminaire,Théorie des nombres
END:VEVENT
BEGIN:VEVENT
DTSTART;TZID=Europe/Paris:20260113T140000
DTEND;TZID=Europe/Paris:20260113T150000
DTSTAMP:20260425T210009
CREATED:20260105T113855Z
LAST-MODIFIED:20260105T113856Z
UID:89160-1768312800-1768316400@lmno.unicaen.fr
SUMMARY:Séminaire GRAAL AG : Maxime Fairon
DESCRIPTION:
URL:https://lmno.unicaen.fr/evenement/seminaire-graal-ag-maxime-fairon-2/
END:VEVENT
BEGIN:VEVENT
DTSTART;TZID=Europe/Paris:20260113T170000
DTEND;TZID=Europe/Paris:20260113T183000
DTSTAMP:20260425T210009
CREATED:20260309T153236Z
LAST-MODIFIED:20260309T153237Z
UID:89376-1768323600-1768329000@lmno.unicaen.fr
SUMMARY:Colloquium : Isabelle GALLAGHER
DESCRIPTION:Cet exposé porte sur le passage rigoureux des descriptions microscopiques des gaz (via les lois de Newton pour les particules élémentaires constituant le gaz) aux descriptions macroscopiques (par exemple les équations de Navier-Stokes incompressibles). Il s’agit d’une question largement ouverte\, mais nous présenterons quelques résultats dans ce contexte\, qui s’appuient le plus souvent sur une description intermédiaire à l’échelle mésoscopique via l’équation de Boltzmann.
URL:https://lmno.unicaen.fr/evenement/colloquium-isabelle-gallagher/
LOCATION:Caen · Campus 2 · Sciences 3 · Salle S3-247\, UFR des Sciences\, Sciences 3\, 6 Boulevard Maréchal Juin\, Caen\, 14000\, France
CATEGORIES:Colloquium,Séminaire
END:VEVENT
BEGIN:VEVENT
DTSTART;TZID=Europe/Paris:20260116T140000
DTEND;TZID=Europe/Paris:20260116T150000
DTSTAMP:20260425T210009
CREATED:20260107T111942Z
LAST-MODIFIED:20260109T151511Z
UID:89173-1768572000-1768575600@lmno.unicaen.fr
SUMMARY:Séminaire TNGA : Arnab Kundu
DESCRIPTION:Orateur : Arnab Kundu (Institutul de Matematică « Simion Stoilow ») \n\n\n\nTitre : Purity of Motivic Cohomology in mixed-characteristic \n\n\n\nRésumé : Motivic cohomology is a cohomology theory that can be defined internally within Grothendieck’s category of motives. Voevodsky developed this theory for smooth varieties\, demonstrating its profound connections to algebraic cycles and algebraic K-theory. However\, its behaviour in mixed-characteristic remains less well understood. Building on recent advancements by Bachmann\, Elmanto\, Morrow\, and Bouis\, in a joint work with Bouis\, we demonstrate a purity result over deeply-ramified bases. I will also discuss an application of this result in p-adic Hodge theory.
URL:https://lmno.unicaen.fr/evenement/seminaire-tnga-arnab-kundu/
CATEGORIES:Séminaire,Théorie des nombres
END:VEVENT
BEGIN:VEVENT
DTSTART;TZID=Europe/Paris:20260120T140000
DTEND;TZID=Europe/Paris:20260120T150000
DTSTAMP:20260425T210009
CREATED:20260105T113508Z
LAST-MODIFIED:20260105T113731Z
UID:89157-1768917600-1768921200@lmno.unicaen.fr
SUMMARY:Séminaire GRAAL AG : Vanessa Miemietz
DESCRIPTION:
URL:https://lmno.unicaen.fr/evenement/seminaire-graal-ag-maxime-fairon/
END:VEVENT
BEGIN:VEVENT
DTSTART;TZID=Europe/Paris:20260123T093000
DTEND;TZID=Europe/Paris:20260124T170000
DTSTAMP:20260425T210009
CREATED:20260331T135227Z
LAST-MODIFIED:20260331T135228Z
UID:89465-1769160600-1769274000@lmno.unicaen.fr
SUMMARY:Rendez-vous des jeunes mathématiciennes et informaticiennes (RJMI)
DESCRIPTION:Le LMNO accueille du 23 au 24 janvier 2026 la 4ème édition des Rendez-vous des jeunes mathématiciennes et informaticiennes (RJMI). Une trentaine de lycéennes normandes vont venir à l’université pour découvrir les mathématiques\, l’informatique\, les métiers où il en faut\, et la place des femmes dedans. Dans ce cadre aura lieu un exposé du Séminaire normand de vulgarisation. Gaëlle Chagny (Université de Rouen) nous parlera de la régularité dans le hasard. \n\n\n\n\nÀ consulter\n\n\n\nProgramme complet (pdf · 3 Mo)\n\n\n\nPrésentation du Séminaire normand de vulgarisation (pdf · 2 Mo)
URL:https://lmno.unicaen.fr/evenement/rendez-vous-des-jeunes-mathematiciennes-et-informaticiennes-rjmi/
LOCATION:Caen · Campus 2 · Sciences 3 · Amphi S3-043\, UFR des Sciences\, Sciences 3\, 6 Boulevard Maréchal Juin\, Caen\, 14000\, France
CATEGORIES:Séminaire
ATTACH;FMTTYPE=image/jpeg:https://lmno.unicaen.fr/wp-content/uploads/sites/54/2026/03/Recadrer-WP_Bandeau_5-2_1000-4003.jpg
END:VEVENT
BEGIN:VEVENT
DTSTART;TZID=Europe/Paris:20260123T143000
DTEND;TZID=Europe/Paris:20260123T153000
DTSTAMP:20260425T210009
CREATED:20260109T151430Z
LAST-MODIFIED:20260109T151432Z
UID:89179-1769178600-1769182200@lmno.unicaen.fr
SUMMARY:Séminaire TNGA : Guillaume Pignon-Ywanne
DESCRIPTION:Orateur : Pignon-Ywanne Guillaume (ENS Lyon) \n\n\n\nTitre : Dualité de Poincaré mod p pour certaines variétés rigides analytiques non propres. \n\n\n\nRésumé : La géométrie p-adique\, introduite par Tate en 1962\, peut être vue comme un analogue p-adique de la géométrie analytique complexe\, où les espaces considérés sont définis localement par des séries formelles convergentes sur des extensions de Q_p. Adaptant la cohomologie étale des schémas due à Grothendieck\, Huber a construit une théorie de la cohomologie étale pour ces variétés analytiques p-adiques\, à coefficients de n-torsion. Elle admet de bonnes propriétés (notamment un formalisme des 6 foncteurs) quand n est premier avec p\, mais\, quand n = p\, la situation est plus complexe\, et la dualité de Poincaré n’est plus vraie en général. Suivant des techniques introduites par Scholze\, Lucas Mann a toutefois établi\, en 2022\, la dualité de Poincaré pour les variétés analytiques propres et lisses à coefficients F_p. \n\n\n\n \n\n\n\nDans cet exposé\, j’exposerai les enjeux de la dualité de Poincaré sur divers exemples\, introduirai les outils utilisés par Mann\, puis expliquerai certains de mes résultats établissant une dualité de Poincaré pour certaines variétés analytiques p-adiques non propres\, reposant sur ces techniques de Mann. Cet exposé se base sur l’article https://arxiv.org/abs/2512.25029.
URL:https://lmno.unicaen.fr/evenement/seminaire-tnga-guillaume-pignon-ywanne/
CATEGORIES:Séminaire,Théorie des nombres
END:VEVENT
BEGIN:VEVENT
DTSTART;TZID=Europe/Paris:20260127T140000
DTEND;TZID=Europe/Paris:20260127T150000
DTSTAMP:20260425T210009
CREATED:20260105T113816Z
LAST-MODIFIED:20260105T113819Z
UID:89161-1769522400-1769526000@lmno.unicaen.fr
SUMMARY:Séminaire GRAAL AG : Pierre Catoire
DESCRIPTION:
URL:https://lmno.unicaen.fr/evenement/seminaire-graal-ag-pierre-catoire/
END:VEVENT
BEGIN:VEVENT
DTSTART;TZID=Europe/Paris:20260130T140000
DTEND;TZID=Europe/Paris:20260130T150000
DTSTAMP:20260425T210010
CREATED:20260210T174529Z
LAST-MODIFIED:20260210T174530Z
UID:89182-1769781600-1769785200@lmno.unicaen.fr
SUMMARY:Mini-groupe de travail : les dessins d'enfants (suite)
DESCRIPTION:(Philippe Satgé)\n\n\n\nLe mini-groupe de travail consacré aux dessins d’enfants de Grothendieck continue\, avec deux exposés de Philippe Satgé les vendredis 30 janvier et 6 février 2026.
URL:https://lmno.unicaen.fr/evenement/mini-groupe-de-travail-les-dessins-denfants-suite-2/
CATEGORIES:Séminaire,Théorie des nombres
END:VEVENT
END:VCALENDAR