BEGIN:VCALENDAR
VERSION:2.0
PRODID:-//LMNO · Laboratoire de mathématiques Nicolas Oresme - ECPv6.15.18//NONSGML v1.0//EN
CALSCALE:GREGORIAN
METHOD:PUBLISH
X-ORIGINAL-URL:https://lmno.unicaen.fr
X-WR-CALDESC:Évènements pour LMNO · Laboratoire de mathématiques Nicolas Oresme
REFRESH-INTERVAL;VALUE=DURATION:PT1H
X-Robots-Tag:noindex
X-PUBLISHED-TTL:PT1H
BEGIN:VTIMEZONE
TZID:Europe/Paris
BEGIN:DAYLIGHT
TZOFFSETFROM:+0100
TZOFFSETTO:+0200
TZNAME:CEST
DTSTART:20240331T010000
END:DAYLIGHT
BEGIN:STANDARD
TZOFFSETFROM:+0200
TZOFFSETTO:+0100
TZNAME:CET
DTSTART:20241027T010000
END:STANDARD
BEGIN:DAYLIGHT
TZOFFSETFROM:+0100
TZOFFSETTO:+0200
TZNAME:CEST
DTSTART:20250330T010000
END:DAYLIGHT
BEGIN:STANDARD
TZOFFSETFROM:+0200
TZOFFSETTO:+0100
TZNAME:CET
DTSTART:20251026T010000
END:STANDARD
BEGIN:DAYLIGHT
TZOFFSETFROM:+0100
TZOFFSETTO:+0200
TZNAME:CEST
DTSTART:20260329T010000
END:DAYLIGHT
BEGIN:STANDARD
TZOFFSETFROM:+0200
TZOFFSETTO:+0100
TZNAME:CET
DTSTART:20261025T010000
END:STANDARD
END:VTIMEZONE
BEGIN:VEVENT
DTSTART;TZID=Europe/Paris:20251003T140000
DTEND;TZID=Europe/Paris:20251003T150000
DTSTAMP:20260425T201343
CREATED:20250917T121056Z
LAST-MODIFIED:20250917T121057Z
UID:88985-1759500000-1759503600@lmno.unicaen.fr
SUMMARY:Séminaire TNGA : Béranger Seguin
DESCRIPTION:Orateur : Béranger Seguin (Universität Paderborn) \n\n\n\nTitre : Paramétrage et principe local-global pour les p -extensions en caractéristique p \n\n\n\nRésumé : Un des thèmes centraux de la théorie des nombres est la description desextensions d’un corps fixé (local ou global). Pour les extensions abéliennes\, cela estrésolu par la théorie du corps de classes\, dont un des faits les plus remarquablesest le lien étroit entre extensions locales et globales. Si on se restreint aux p –extensions abéliennes des corps de caractéristique p \, cette théorie prend une formetrès explicite : c’est la théorie d’Artin-Schreier(Witt). Dans cet exposé\, nousnous aventurerons au-delà du sentier bien balisé des extensions abéliennes\, etirons chercher du côté des généralisations non-abéliennes de la théorie d’Artin-Schreier.Une spécificité de l’étude des p -extensions en caractéristique p est la présence deramification sauvage : celle-ci nous permettra de formuler un principe local-globaldans l’esprit de la théorie du corps de classes\, pour certaines p -extensions non-abéliennes\, via l’étude d’un phénomène nouveau : l’invariance du conducteur dessolutions minimales de problèmes de plongement locaux lors de la modificationde la partie non-ramifiée du problème. Les résultats présentés sont le fruit d’unecollaboration avec Fabian Gundlach.
URL:https://lmno.unicaen.fr/evenement/seminaire-tnga-beranger-seguin/
CATEGORIES:Séminaire,Théorie des nombres
END:VEVENT
END:VCALENDAR