BEGIN:VCALENDAR
VERSION:2.0
PRODID:-//LMNO · Laboratoire de mathématiques Nicolas Oresme - ECPv6.15.18//NONSGML v1.0//EN
CALSCALE:GREGORIAN
METHOD:PUBLISH
X-ORIGINAL-URL:https://lmno.unicaen.fr
X-WR-CALDESC:Évènements pour LMNO · Laboratoire de mathématiques Nicolas Oresme
REFRESH-INTERVAL;VALUE=DURATION:PT1H
X-Robots-Tag:noindex
X-PUBLISHED-TTL:PT1H
BEGIN:VTIMEZONE
TZID:Europe/Paris
BEGIN:DAYLIGHT
TZOFFSETFROM:+0100
TZOFFSETTO:+0200
TZNAME:CEST
DTSTART:20240331T010000
END:DAYLIGHT
BEGIN:STANDARD
TZOFFSETFROM:+0200
TZOFFSETTO:+0100
TZNAME:CET
DTSTART:20241027T010000
END:STANDARD
BEGIN:DAYLIGHT
TZOFFSETFROM:+0100
TZOFFSETTO:+0200
TZNAME:CEST
DTSTART:20250330T010000
END:DAYLIGHT
BEGIN:STANDARD
TZOFFSETFROM:+0200
TZOFFSETTO:+0100
TZNAME:CET
DTSTART:20251026T010000
END:STANDARD
BEGIN:DAYLIGHT
TZOFFSETFROM:+0100
TZOFFSETTO:+0200
TZNAME:CEST
DTSTART:20260329T010000
END:DAYLIGHT
BEGIN:STANDARD
TZOFFSETFROM:+0200
TZOFFSETTO:+0100
TZNAME:CET
DTSTART:20261025T010000
END:STANDARD
END:VTIMEZONE
BEGIN:VEVENT
DTSTART;TZID=Europe/Paris:20250511T080000
DTEND;TZID=Europe/Paris:20250516T170000
DTSTAMP:20260421T021604
CREATED:20250507T151432Z
LAST-MODIFIED:20250507T151549Z
UID:48508-1746950400-1747414800@lmno.unicaen.fr
SUMMARY:Conférence Arithmetic Geometry à Cabourg
DESCRIPTION:
URL:https://lmno.unicaen.fr/evenement/conference-arithmetic-geometry-a-cabourg/
LOCATION:Cabourg\, Cabourg\, 14390\, France
CATEGORIES:Congrès - Colloque
END:VEVENT
END:VCALENDAR